BEGIN:VCALENDAR
VERSION:2.0
PRODID:-//זוהר לא&#039;ספקתי - האתר הרשמי - ECPv6.8.2.1//NONSGML v1.0//EN
CALSCALE:GREGORIAN
METHOD:PUBLISH
X-ORIGINAL-URL:https://zoharloispakti.co.il
X-WR-CALDESC:Events for זוהר לא&#039;ספקתי - האתר הרשמי
REFRESH-INTERVAL;VALUE=DURATION:PT1H
X-Robots-Tag:noindex
X-PUBLISHED-TTL:PT1H
BEGIN:VTIMEZONE
TZID:UTC
BEGIN:STANDARD
TZOFFSETFROM:+0000
TZOFFSETTO:+0000
TZNAME:UTC
DTSTART:20250101T000000
END:STANDARD
END:VTIMEZONE
BEGIN:VEVENT
DTSTART;VALUE=DATE:20250501
DTEND;VALUE=DATE:20250502
DTSTAMP:20260420T044042
CREATED:20240429T100815Z
LAST-MODIFIED:20250428T103950Z
UID:7748-1746057600-1746143999@zoharloispakti.co.il
SUMMARY:עצמאות עם זוהר לא'ספקתי | פתח תקוה | 01.05 | 11:00 - הכניסה חופשית !
DESCRIPTION:פתח תקווה\, ישראל ישעיהו 12
URL:https://zoharloispakti.co.il/event/%d7%a2%d7%a6%d7%9e%d7%90%d7%95%d7%aa-%d7%a2%d7%9d-%d7%96%d7%95%d7%94%d7%a8-%d7%9c%d7%90%d7%a1%d7%a4%d7%a7%d7%aa%d7%99-%d7%a4%d7%aa%d7%97-%d7%aa%d7%a7%d7%95%d7%94-01-05-1100/
CATEGORIES:מופעים
ATTACH;FMTTYPE=image/jpeg:https://zoharloispakti.co.il/wp-content/uploads/2025/04/zohar-atzmaut.jpg
END:VEVENT
BEGIN:VEVENT
DTSTART;VALUE=DATE:20250517
DTEND;VALUE=DATE:20250518
DTSTAMP:20260420T044042
CREATED:20250421T054400Z
LAST-MODIFIED:20250428T090942Z
UID:7252-1747440000-1747526399@zoharloispakti.co.il
SUMMARY:שומרת גן החיות | נס ציונה | 17.05 | 11:00
DESCRIPTION:היכל התרבות נס ציונה \nלרכישת כרטיסים
URL:https://zoharloispakti.co.il/event/1705-1730/
CATEGORIES:מופעים
ATTACH;FMTTYPE=image/jpeg:https://zoharloispakti.co.il/wp-content/uploads/2024/12/ZooKeeper-1000.jpg
END:VEVENT
BEGIN:VEVENT
DTSTART;VALUE=DATE:20250524
DTEND;VALUE=DATE:20250525
DTSTAMP:20260420T044042
CREATED:20250426T213631Z
LAST-MODIFIED:20250426T214630Z
UID:7649-1748044800-1748131199@zoharloispakti.co.il
SUMMARY:שומרת גן החיות | תל אביב | 24.05 | 11:00
DESCRIPTION:בית ציוני אמריקה – אולם מאירהוף\, תל אביב \nלרכישת כרטיסים
URL:https://zoharloispakti.co.il/event/%d7%a9%d7%95%d7%9e%d7%a8%d7%aa-%d7%92%d7%9f-%d7%94%d7%97%d7%99%d7%95%d7%aa-%d7%aa%d7%9c-%d7%90%d7%91%d7%99%d7%91-24-05-1100/
CATEGORIES:מופעים
ATTACH;FMTTYPE=image/jpeg:https://zoharloispakti.co.il/wp-content/uploads/2024/12/ZooKeeper-1000.jpg
END:VEVENT
BEGIN:VEVENT
DTSTART;VALUE=DATE:20250531
DTEND;VALUE=DATE:20250601
DTSTAMP:20260420T044042
CREATED:20250426T213858Z
LAST-MODIFIED:20250426T213858Z
UID:7652-1748649600-1748735999@zoharloispakti.co.il
SUMMARY:שומרת גן החיות | דרום השרון | 31.05 | 11:00
DESCRIPTION:היכל התרבות דרום השרון \nלרכישת כרטיסים
URL:https://zoharloispakti.co.il/event/%d7%a9%d7%95%d7%9e%d7%a8%d7%aa-%d7%92%d7%9f-%d7%94%d7%97%d7%99%d7%95%d7%aa-%d7%93%d7%a8%d7%95%d7%9d-%d7%94%d7%a9%d7%a8%d7%95%d7%9f-31-05-1100/
CATEGORIES:מופעים
ATTACH;FMTTYPE=image/jpeg:https://zoharloispakti.co.il/wp-content/uploads/2024/12/ZooKeeper-1000.jpg
END:VEVENT
END:VCALENDAR