BEGIN:VCALENDAR
VERSION:2.0
PRODID:-//זוהר לא&#039;ספקתי - האתר הרשמי - ECPv6.8.2.1//NONSGML v1.0//EN
CALSCALE:GREGORIAN
METHOD:PUBLISH
X-WR-CALNAME:זוהר לא&#039;ספקתי - האתר הרשמי
X-ORIGINAL-URL:https://zoharloispakti.co.il
X-WR-CALDESC:Events for זוהר לא&#039;ספקתי - האתר הרשמי
REFRESH-INTERVAL;VALUE=DURATION:PT1H
X-Robots-Tag:noindex
X-PUBLISHED-TTL:PT1H
BEGIN:VTIMEZONE
TZID:UTC
BEGIN:STANDARD
TZOFFSETFROM:+0000
TZOFFSETTO:+0000
TZNAME:UTC
DTSTART:20260101T000000
END:STANDARD
END:VTIMEZONE
BEGIN:VEVENT
DTSTART;VALUE=DATE:20260103
DTEND;VALUE=DATE:20260104
DTSTAMP:20260419T165211
CREATED:20251227T110025Z
LAST-MODIFIED:20251229T182453Z
UID:8031-1767398400-1767484799@zoharloispakti.co.il
SUMMARY:שומרת גן החיות | היכל התרבות דרום השרון | 3.1 | 11:00
DESCRIPTION:היכל התרבות דרום השרון \nלרכישת כרטיסים \n 
URL:https://zoharloispakti.co.il/event/%d7%a9%d7%95%d7%9e%d7%a8%d7%aa-%d7%92%d7%9f-%d7%94%d7%97%d7%99%d7%95%d7%aa-%d7%94%d7%99%d7%9b%d7%9c-%d7%94%d7%aa%d7%a8%d7%91%d7%95%d7%aa-%d7%93%d7%a8%d7%95%d7%9d-%d7%94%d7%a9%d7%a8%d7%95%d7%9f-3-1/
CATEGORIES:מופעים
ATTACH;FMTTYPE=image/jpeg:https://zoharloispakti.co.il/wp-content/uploads/2024/12/ZooKeeper-1000.jpg
END:VEVENT
BEGIN:VEVENT
DTSTART;VALUE=DATE:20260113
DTEND;VALUE=DATE:20260114
DTSTAMP:20260419T165212
CREATED:20251228T134036Z
LAST-MODIFIED:20260106T114945Z
UID:8034-1768262400-1768348799@zoharloispakti.co.il
SUMMARY:שומרת גן החיות | היכל התרבות עכו | 13.1 | 17:30
DESCRIPTION:היכל התרבות עכו \n 
URL:https://zoharloispakti.co.il/event/%d7%a9%d7%95%d7%9e%d7%a8%d7%aa-%d7%92%d7%9f-%d7%94%d7%97%d7%99%d7%95%d7%aa-%d7%94%d7%99%d7%9b%d7%9c-%d7%94%d7%aa%d7%a8%d7%91%d7%95%d7%aa-%d7%a2%d7%9b%d7%95-%d7%9c%d7%9c%d7%90-%d7%94%d7%a4%d7%a1/
CATEGORIES:מופעים
ATTACH;FMTTYPE=image/jpeg:https://zoharloispakti.co.il/wp-content/uploads/2024/12/ZooKeeper-1000.jpg
END:VEVENT
BEGIN:VEVENT
DTSTART;VALUE=DATE:20260119
DTEND;VALUE=DATE:20260120
DTSTAMP:20260419T165212
CREATED:20251228T134341Z
LAST-MODIFIED:20251229T182654Z
UID:8037-1768780800-1768867199@zoharloispakti.co.il
SUMMARY:שומרת גן החיות | היכל התרבות אור עקיבא | 19.1 | 17:30
DESCRIPTION:היכל התרבות אור עקיבא \nלרכישת כרטיסים \n 
URL:https://zoharloispakti.co.il/event/%d7%a9%d7%95%d7%9e%d7%a8%d7%aa-%d7%92%d7%9f-%d7%94%d7%97%d7%99%d7%95%d7%aa-%d7%94%d7%99%d7%9b%d7%9c-%d7%94%d7%aa%d7%a8%d7%91%d7%95%d7%aa-%d7%90%d7%95%d7%a8-%d7%a2%d7%a7%d7%99%d7%91%d7%90-19-1-17/
CATEGORIES:מופעים
ATTACH;FMTTYPE=image/jpeg:https://zoharloispakti.co.il/wp-content/uploads/2024/12/ZooKeeper-1000.jpg
END:VEVENT
BEGIN:VEVENT
DTSTART;VALUE=DATE:20260121
DTEND;VALUE=DATE:20260122
DTSTAMP:20260419T165212
CREATED:20251228T134544Z
LAST-MODIFIED:20251229T182903Z
UID:8040-1768953600-1769039999@zoharloispakti.co.il
SUMMARY:שומרת גן החיות | שטיינברג חולון | 21.2 | 11:00
DESCRIPTION:שטיינברג חולון \nלרכישת כרטיסים \n 
URL:https://zoharloispakti.co.il/event/%d7%a9%d7%95%d7%9e%d7%a8%d7%aa-%d7%92%d7%9f-%d7%94%d7%97%d7%99%d7%95%d7%aa-%d7%a9%d7%98%d7%99%d7%99%d7%a0%d7%91%d7%a8%d7%92-%d7%97%d7%95%d7%9c%d7%95%d7%9f-22-2-1100/
CATEGORIES:מופעים
ATTACH;FMTTYPE=image/jpeg:https://zoharloispakti.co.il/wp-content/uploads/2024/12/ZooKeeper-1000.jpg
END:VEVENT
END:VCALENDAR