BEGIN:VCALENDAR
VERSION:2.0
PRODID:-//זוהר לא&#039;ספקתי - האתר הרשמי - ECPv6.8.2.1//NONSGML v1.0//EN
CALSCALE:GREGORIAN
METHOD:PUBLISH
X-WR-CALNAME:זוהר לא&#039;ספקתי - האתר הרשמי
X-ORIGINAL-URL:https://zoharloispakti.co.il
X-WR-CALDESC:Events for זוהר לא&#039;ספקתי - האתר הרשמי
REFRESH-INTERVAL;VALUE=DURATION:PT1H
X-Robots-Tag:noindex
X-PUBLISHED-TTL:PT1H
BEGIN:VTIMEZONE
TZID:UTC
BEGIN:STANDARD
TZOFFSETFROM:+0000
TZOFFSETTO:+0000
TZNAME:UTC
DTSTART:20250101T000000
END:STANDARD
END:VTIMEZONE
BEGIN:VEVENT
DTSTART;VALUE=DATE:20250916
DTEND;VALUE=DATE:20250917
DTSTAMP:20260420T000939
CREATED:20250426T220130Z
LAST-MODIFIED:20250426T220130Z
UID:7677-1757980800-1758067199@zoharloispakti.co.il
SUMMARY:שומרת גן החיות | תל מונד | 16.09 | 17:30
DESCRIPTION:היכל התרבות מתנ"ס תל מונד \nלרכישת כרטיסים
URL:https://zoharloispakti.co.il/event/%d7%a9%d7%95%d7%9e%d7%a8%d7%aa-%d7%92%d7%9f-%d7%94%d7%97%d7%99%d7%95%d7%aa-%d7%aa%d7%9c-%d7%9e%d7%95%d7%a0%d7%93-16-09-1730/
CATEGORIES:מופעים
ATTACH;FMTTYPE=image/jpeg:https://zoharloispakti.co.il/wp-content/uploads/2024/12/ZooKeeper-1000.jpg
END:VEVENT
END:VCALENDAR