BEGIN:VCALENDAR
VERSION:2.0
PRODID:-//זוהר לא&#039;ספקתי - האתר הרשמי - ECPv6.8.2.1//NONSGML v1.0//EN
CALSCALE:GREGORIAN
METHOD:PUBLISH
X-WR-CALNAME:זוהר לא&#039;ספקתי - האתר הרשמי
X-ORIGINAL-URL:https://zoharloispakti.co.il
X-WR-CALDESC:Events for זוהר לא&#039;ספקתי - האתר הרשמי
REFRESH-INTERVAL;VALUE=DURATION:PT1H
X-Robots-Tag:noindex
X-PUBLISHED-TTL:PT1H
BEGIN:VTIMEZONE
TZID:UTC
BEGIN:STANDARD
TZOFFSETFROM:+0000
TZOFFSETTO:+0000
TZNAME:UTC
DTSTART:20250101T000000
END:STANDARD
END:VTIMEZONE
BEGIN:VEVENT
DTSTART;VALUE=DATE:20250702
DTEND;VALUE=DATE:20250703
DTSTAMP:20260420T030508
CREATED:20250426T215510Z
LAST-MODIFIED:20250426T215510Z
UID:7668-1751414400-1751500799@zoharloispakti.co.il
SUMMARY:שומרת גן החיות | נהריה| 02.07 | 17:30
DESCRIPTION:היכל התרבות נהריה \nלרכישת כרטיסים
URL:https://zoharloispakti.co.il/event/%d7%a9%d7%95%d7%9e%d7%a8%d7%aa-%d7%92%d7%9f-%d7%94%d7%97%d7%99%d7%95%d7%aa-%d7%a0%d7%94%d7%a8%d7%99%d7%94-02-07-1730/
CATEGORIES:מופעים
ATTACH;FMTTYPE=image/jpeg:https://zoharloispakti.co.il/wp-content/uploads/2024/12/ZooKeeper-1000.jpg
END:VEVENT
BEGIN:VEVENT
DTSTART;VALUE=DATE:20250705
DTEND;VALUE=DATE:20250706
DTSTAMP:20260420T030508
CREATED:20250426T215634Z
LAST-MODIFIED:20250426T215634Z
UID:7670-1751673600-1751759999@zoharloispakti.co.il
SUMMARY:שומרת גן החיות | חוף הכרמל | 05.07 | 11:00
DESCRIPTION:מוזה היכל התרבות חוף הכרמל\, מרכז מיר"ב \nלרכישת כרטיסים
URL:https://zoharloispakti.co.il/event/%d7%a9%d7%95%d7%9e%d7%a8%d7%aa-%d7%92%d7%9f-%d7%94%d7%97%d7%99%d7%95%d7%aa-%d7%97%d7%95%d7%a3-%d7%94%d7%9b%d7%a8%d7%9e%d7%9c-05-07-1100/
CATEGORIES:מופעים
ATTACH;FMTTYPE=image/jpeg:https://zoharloispakti.co.il/wp-content/uploads/2024/12/ZooKeeper-1000.jpg
END:VEVENT
BEGIN:VEVENT
DTSTART;VALUE=DATE:20250726
DTEND;VALUE=DATE:20250727
DTSTAMP:20260420T030508
CREATED:20250426T215804Z
LAST-MODIFIED:20250426T215834Z
UID:7672-1753488000-1753574399@zoharloispakti.co.il
SUMMARY:שומרת גן החיות | יגור | 26.07 | 11:00
DESCRIPTION:היכל התרבות יד למגינים יגור \nלרכישת כרטיסים
URL:https://zoharloispakti.co.il/event/%d7%a9%d7%95%d7%9e%d7%a8%d7%aa-%d7%92%d7%9f-%d7%94%d7%97%d7%99%d7%95%d7%aa-%d7%99%d7%92%d7%95%d7%a8-25-07-1100/
CATEGORIES:מופעים
ATTACH;FMTTYPE=image/jpeg:https://zoharloispakti.co.il/wp-content/uploads/2024/12/ZooKeeper-1000.jpg
END:VEVENT
END:VCALENDAR